Package: MBQN Version: 2.18.0 Command: /home/biocbuild/bbs-3.20-bioc/R/bin/R CMD check --install=check:MBQN.install-out.txt --library=/home/biocbuild/bbs-3.20-bioc/R/site-library --timings MBQN_2.18.0.tar.gz StartedAt: 2025-01-30 23:38:22 -0500 (Thu, 30 Jan 2025) EndedAt: 2025-01-30 23:38:50 -0500 (Thu, 30 Jan 2025) EllapsedTime: 28.1 seconds RetCode: 0 Status: OK CheckDir: MBQN.Rcheck Warnings: 0