Package: MBQN Version: 2.18.0 Command: /home/biocbuild/R/R/bin/R CMD build --keep-empty-dirs --no-resave-data MBQN StartedAt: 2025-01-31 00:41:09 -0000 (Fri, 31 Jan 2025) EndedAt: 2025-01-31 00:41:21 -0000 (Fri, 31 Jan 2025) EllapsedTime: 12.0 seconds RetCode: 0 Status: OK PackageFile: MBQN_2.18.0.tar.gz PackageFileSize: 108.3 KiB