Package: MBQN Version: 2.18.0 Command: /home/biocbuild/R/R/bin/R CMD check --install=check:MBQN.install-out.txt --library=/home/biocbuild/R/R/site-library --no-vignettes --timings MBQN_2.18.0.tar.gz StartedAt: 2025-01-31 07:47:18 -0000 (Fri, 31 Jan 2025) EndedAt: 2025-01-31 07:47:45 -0000 (Fri, 31 Jan 2025) EllapsedTime: 27.0 seconds RetCode: 0 Status: OK CheckDir: MBQN.Rcheck Warnings: 0