Package: MBQN Version: 2.18.0 Command: /home/biocbuild/R/R/bin/R CMD INSTALL MBQN StartedAt: 2025-02-03 20:55:20 -0000 (Mon, 03 Feb 2025) EndedAt: 2025-02-03 20:55:23 -0000 (Mon, 03 Feb 2025) EllapsedTime: 3.8 seconds RetCode: 0 Status: OK