Package: MCbiclust Version: 1.30.0 Command: /Library/Frameworks/R.framework/Resources/bin/R CMD build --keep-empty-dirs --no-resave-data MCbiclust StartedAt: 2025-02-11 02:44:36 -0500 (Tue, 11 Feb 2025) EndedAt: 2025-02-11 02:45:55 -0500 (Tue, 11 Feb 2025) EllapsedTime: 78.8 seconds RetCode: 0 Status: OK PackageFile: MCbiclust_1.30.0.tar.gz PackageFileSize: 6.574 MiB