Package: MCbiclust Version: 1.30.0 Command: /home/biocbuild/bbs-3.20-bioc/R/bin/R CMD INSTALL MCbiclust StartedAt: 2025-02-03 15:50:38 -0500 (Mon, 03 Feb 2025) EndedAt: 2025-02-03 15:50:59 -0500 (Mon, 03 Feb 2025) EllapsedTime: 20.6 seconds RetCode: 0 Status: OK