Package: MCbiclust Version: 1.30.0 Command: rm -rf MCbiclust.buildbin-libdir && mkdir MCbiclust.buildbin-libdir && F:\biocbuild\bbs-3.20-bioc\R\bin\R.exe CMD INSTALL --build --library=MCbiclust.buildbin-libdir MCbiclust_1.30.0.tar.gz StartedAt: 2025-02-04 08:51:47 -0500 (Tue, 04 Feb 2025) EndedAt: 2025-02-04 08:52:20 -0500 (Tue, 04 Feb 2025) EllapsedTime: 33.0 seconds RetCode: 0 Status: OK PackageFile: MCbiclust_1.30.0.zip PackageFileSize: 5.102 MiB