Package: MCbiclust Version: 1.30.0 Command: /home/biocbuild/R/R/bin/R CMD build --keep-empty-dirs --no-resave-data MCbiclust StartedAt: 2025-02-11 00:32:42 -0000 (Tue, 11 Feb 2025) EndedAt: 2025-02-11 00:34:12 -0000 (Tue, 11 Feb 2025) EllapsedTime: 90.0 seconds RetCode: 0 Status: OK PackageFile: MCbiclust_1.30.0.tar.gz PackageFileSize: 4.289 MiB