Package: MCbiclust Version: 1.30.0 Command: /home/biocbuild/R/R/bin/R CMD INSTALL MCbiclust StartedAt: 2025-02-03 21:05:00 -0000 (Mon, 03 Feb 2025) EndedAt: 2025-02-03 21:05:25 -0000 (Mon, 03 Feb 2025) EllapsedTime: 24.9 seconds RetCode: 0 Status: OK