Package: MDTS Version: 1.26.0 Command: rm -rf MDTS.buildbin-libdir && mkdir MDTS.buildbin-libdir && /Users/biocbuild/BBS/utils/build-universal.sh MDTS_1.26.0.tar.gz /Library/Frameworks/R.framework/Resources/bin/R MDTS.buildbin-libdir StartedAt: 2025-02-01 15:36:02 -0500 (Sat, 01 Feb 2025) EndedAt: 2025-02-01 15:36:35 -0500 (Sat, 01 Feb 2025) EllapsedTime: 33.0 seconds RetCode: 0 Status: OK PackageFile: MDTS_1.26.0.tgz PackageFileSize: 79.25 KiB