Package: MDTS Version: 1.26.0 Command: /Library/Frameworks/R.framework/Resources/bin/R CMD INSTALL MDTS StartedAt: 2025-02-03 15:55:47 -0500 (Mon, 03 Feb 2025) EndedAt: 2025-02-03 15:56:17 -0500 (Mon, 03 Feb 2025) EllapsedTime: 29.4 seconds RetCode: 0 Status: OK