Package: MDTS Version: 1.26.0 Command: /Library/Frameworks/R.framework/Resources/bin/R CMD build --keep-empty-dirs --no-resave-data MDTS StartedAt: 2025-02-03 20:05:21 -0500 (Mon, 03 Feb 2025) EndedAt: 2025-02-03 20:06:45 -0500 (Mon, 03 Feb 2025) EllapsedTime: 84.5 seconds RetCode: 0 Status: OK PackageFile: MDTS_1.26.0.tar.gz PackageFileSize: 31.4 KiB