Package: MDTS Version: 1.26.0 Command: /Library/Frameworks/R.framework/Resources/bin/R CMD check --install=check:MDTS.install-out.txt --library=/Library/Frameworks/R.framework/Resources/library --no-vignettes --timings MDTS_1.26.0.tar.gz StartedAt: 2025-02-04 05:55:00 -0500 (Tue, 04 Feb 2025) EndedAt: 2025-02-04 06:01:06 -0500 (Tue, 04 Feb 2025) EllapsedTime: 366.1 seconds RetCode: 0 Status: OK CheckDir: MDTS.Rcheck Warnings: 0