Package: MDTS Version: 1.26.0 Command: /home/biocbuild/bbs-3.20-bioc/R/bin/R CMD INSTALL MDTS StartedAt: 2025-01-30 15:21:15 -0500 (Thu, 30 Jan 2025) EndedAt: 2025-01-30 15:21:40 -0500 (Thu, 30 Jan 2025) EllapsedTime: 25.2 seconds RetCode: 0 Status: OK