Package: MDTS Version: 1.26.0 Command: rm -rf MDTS.buildbin-libdir && mkdir MDTS.buildbin-libdir && F:\biocbuild\bbs-3.20-bioc\R\bin\R.exe CMD INSTALL --build --library=MDTS.buildbin-libdir MDTS_1.26.0.tar.gz StartedAt: 2025-01-31 08:59:50 -0500 (Fri, 31 Jan 2025) EndedAt: 2025-01-31 09:00:22 -0500 (Fri, 31 Jan 2025) EllapsedTime: 31.5 seconds RetCode: 0 Status: OK PackageFile: MDTS_1.26.0.zip PackageFileSize: 85.8 KiB