Package: MDTS Version: 1.26.0 Command: chmod a+r MDTS -R && F:\biocbuild\bbs-3.20-bioc\R\bin\R.exe CMD build --keep-empty-dirs --no-resave-data MDTS StartedAt: 2025-01-30 19:57:13 -0500 (Thu, 30 Jan 2025) EndedAt: 2025-01-30 19:58:03 -0500 (Thu, 30 Jan 2025) EllapsedTime: 50.5 seconds RetCode: 0 Status: OK PackageFile: MDTS_1.26.0.tar.gz PackageFileSize: 31.66 KiB