Package: MDTS Version: 1.26.0 Command: /home/biocbuild/R/R/bin/R CMD build --keep-empty-dirs --no-resave-data MDTS StartedAt: 2025-02-04 00:44:07 -0000 (Tue, 04 Feb 2025) EndedAt: 2025-02-04 00:44:53 -0000 (Tue, 04 Feb 2025) EllapsedTime: 46.0 seconds RetCode: 0 Status: OK PackageFile: MDTS_1.26.0.tar.gz PackageFileSize: 31.49 KiB