Package: MDTS Version: 1.26.0 Command: /home/biocbuild/R/R/bin/R CMD check --install=check:MDTS.install-out.txt --library=/home/biocbuild/R/R/site-library --no-vignettes --timings MDTS_1.26.0.tar.gz StartedAt: 2025-02-04 08:30:38 -0000 (Tue, 04 Feb 2025) EndedAt: 2025-02-04 08:34:07 -0000 (Tue, 04 Feb 2025) EllapsedTime: 209.3 seconds RetCode: 0 Status: OK CheckDir: MDTS.Rcheck Warnings: 0