Package: MDTS Version: 1.26.0 Command: /home/biocbuild/R/R/bin/R CMD INSTALL MDTS StartedAt: 2025-02-03 20:41:05 -0000 (Mon, 03 Feb 2025) EndedAt: 2025-02-03 20:41:35 -0000 (Mon, 03 Feb 2025) EllapsedTime: 30.6 seconds RetCode: 0 Status: OK