Package: MEAL Version: 1.36.0 Command: /Library/Frameworks/R.framework/Resources/bin/R CMD build --keep-empty-dirs --no-resave-data MEAL StartedAt: 2025-02-03 20:05:41 -0500 (Mon, 03 Feb 2025) EndedAt: 2025-02-03 20:18:32 -0500 (Mon, 03 Feb 2025) EllapsedTime: 771.2 seconds RetCode: 0 Status: OK PackageFile: MEAL_1.36.0.tar.gz PackageFileSize: 2.067 MiB