Package: MEAL Version: 1.36.0 Command: F:\biocbuild\bbs-3.20-bioc\R\bin\R.exe CMD INSTALL MEAL StartedAt: 2025-02-03 17:20:23 -0500 (Mon, 03 Feb 2025) EndedAt: 2025-02-03 17:21:04 -0500 (Mon, 03 Feb 2025) EllapsedTime: 41.3 seconds RetCode: 0 Status: OK