Package: MEDIPS Version: 1.58.0 Command: /Library/Frameworks/R.framework/Resources/bin/R CMD INSTALL MEDIPS StartedAt: 2024-11-19 15:20:29 -0500 (Tue, 19 Nov 2024) EndedAt: 2024-11-19 15:21:26 -0500 (Tue, 19 Nov 2024) EllapsedTime: 57.0 seconds RetCode: 0 Status: OK