Package: MEDIPS Version: 1.58.0 Command: /Library/Frameworks/R.framework/Resources/bin/R CMD check --install=check:MEDIPS.install-out.txt --library=/Library/Frameworks/R.framework/Resources/library --no-vignettes --timings MEDIPS_1.58.0.tar.gz StartedAt: 2025-02-11 05:58:38 -0500 (Tue, 11 Feb 2025) EndedAt: 2025-02-11 06:09:30 -0500 (Tue, 11 Feb 2025) EllapsedTime: 652.6 seconds RetCode: 0 Status: OK CheckDir: MEDIPS.Rcheck Warnings: 0