Package: MEDIPS Version: 1.58.0 Command: F:\biocbuild\bbs-3.20-bioc\R\bin\R.exe CMD check --no-multiarch --install=check:MEDIPS.install-out.txt --library=F:\biocbuild\bbs-3.20-bioc\R\library --no-vignettes --timings MEDIPS_1.58.0.tar.gz StartedAt: 2025-02-04 03:27:47 -0500 (Tue, 04 Feb 2025) EndedAt: 2025-02-04 03:34:56 -0500 (Tue, 04 Feb 2025) EllapsedTime: 428.7 seconds RetCode: 0 Status: OK CheckDir: MEDIPS.Rcheck Warnings: 0