Package: MEDIPS Version: 1.58.0 Command: F:\biocbuild\bbs-3.20-bioc\R\bin\R.exe CMD INSTALL MEDIPS StartedAt: 2025-02-03 16:49:30 -0500 (Mon, 03 Feb 2025) EndedAt: 2025-02-03 16:50:28 -0500 (Mon, 03 Feb 2025) EllapsedTime: 57.7 seconds RetCode: 0 Status: OK