Package: MEDIPS Version: 1.58.0 Command: /home/biocbuild/R/R/bin/R CMD check --install=check:MEDIPS.install-out.txt --library=/home/biocbuild/R/R/site-library --no-vignettes --timings MEDIPS_1.58.0.tar.gz StartedAt: 2025-02-04 08:31:45 -0000 (Tue, 04 Feb 2025) EndedAt: 2025-02-04 08:38:38 -0000 (Tue, 04 Feb 2025) EllapsedTime: 412.6 seconds RetCode: 0 Status: OK CheckDir: MEDIPS.Rcheck Warnings: 0