Package: MEDME Version: 1.66.0 Command: /Library/Frameworks/R.framework/Resources/bin/R CMD build --keep-empty-dirs --no-resave-data MEDME StartedAt: 2025-02-04 02:43:50 -0500 (Tue, 04 Feb 2025) EndedAt: 2025-02-04 02:44:41 -0500 (Tue, 04 Feb 2025) EllapsedTime: 51.3 seconds RetCode: 0 Status: OK PackageFile: MEDME_1.66.0.tar.gz PackageFileSize: 448.3 KiB