Package: MEDME Version: 1.66.0 Command: /Library/Frameworks/R.framework/Resources/bin/R CMD build --keep-empty-dirs --no-resave-data MEDME StartedAt: 2025-02-10 20:06:15 -0500 (Mon, 10 Feb 2025) EndedAt: 2025-02-10 20:07:40 -0500 (Mon, 10 Feb 2025) EllapsedTime: 85.6 seconds RetCode: 0 Status: OK PackageFile: MEDME_1.66.0.tar.gz PackageFileSize: 448.2 KiB