Package: MEDME Version: 1.66.0 Command: /home/biocbuild/bbs-3.20-bioc/R/bin/R CMD build --keep-empty-dirs --no-resave-data --md5 MEDME StartedAt: 2025-02-03 18:06:01 -0500 (Mon, 03 Feb 2025) EndedAt: 2025-02-03 18:06:35 -0500 (Mon, 03 Feb 2025) EllapsedTime: 34.0 seconds RetCode: 0 Status: OK PackageFile: MEDME_1.66.0.tar.gz PackageFileSize: 449.3 KiB