Package: MEDME Version: 1.66.0 Command: /home/biocbuild/bbs-3.20-bioc/R/bin/R CMD INSTALL MEDME StartedAt: 2025-02-03 15:56:26 -0500 (Mon, 03 Feb 2025) EndedAt: 2025-02-03 15:56:41 -0500 (Mon, 03 Feb 2025) EllapsedTime: 15.3 seconds RetCode: 0 Status: OK