Package: MEDME Version: 1.66.0 Command: rm -rf MEDME.buildbin-libdir && mkdir MEDME.buildbin-libdir && F:\biocbuild\bbs-3.20-bioc\R\bin\R.exe CMD INSTALL --build --library=MEDME.buildbin-libdir MEDME_1.66.0.tar.gz StartedAt: 2025-02-04 08:52:11 -0500 (Tue, 04 Feb 2025) EndedAt: 2025-02-04 08:52:41 -0500 (Tue, 04 Feb 2025) EllapsedTime: 29.9 seconds RetCode: 0 Status: OK PackageFile: MEDME_1.66.0.zip PackageFileSize: 539.2 KiB