Package: MEDME Version: 1.66.0 Command: /home/biocbuild/R/R/bin/R CMD INSTALL MEDME StartedAt: 2025-02-03 21:11:09 -0000 (Mon, 03 Feb 2025) EndedAt: 2025-02-03 21:11:27 -0000 (Mon, 03 Feb 2025) EllapsedTime: 18.3 seconds RetCode: 0 Status: OK