Package: MEIGOR Version: 1.40.0 Command: rm -rf MEIGOR.buildbin-libdir && mkdir MEIGOR.buildbin-libdir && /Users/biocbuild/BBS/utils/build-universal.sh MEIGOR_1.40.0.tar.gz /Library/Frameworks/R.framework/Resources/bin/R MEIGOR.buildbin-libdir StartedAt: 2025-02-04 13:21:49 -0500 (Tue, 04 Feb 2025) EndedAt: 2025-02-04 13:22:20 -0500 (Tue, 04 Feb 2025) EllapsedTime: 31.4 seconds RetCode: 0 Status: OK PackageFile: MEIGOR_1.40.0.tgz PackageFileSize: 1.905 MiB