Package: MEIGOR Version: 1.40.0 Command: /Library/Frameworks/R.framework/Resources/bin/R CMD build --keep-empty-dirs --no-resave-data MEIGOR StartedAt: 2025-02-03 20:06:39 -0500 (Mon, 03 Feb 2025) EndedAt: 2025-02-03 20:08:18 -0500 (Mon, 03 Feb 2025) EllapsedTime: 98.8 seconds RetCode: 0 Status: OK PackageFile: MEIGOR_1.40.0.tar.gz PackageFileSize: 1.781 MiB