Package: MEIGOR Version: 1.40.0 Command: /Library/Frameworks/R.framework/Resources/bin/R CMD check --install=check:MEIGOR.install-out.txt --library=/Library/Frameworks/R.framework/Resources/library --no-vignettes --timings MEIGOR_1.40.0.tar.gz StartedAt: 2025-02-04 05:58:19 -0500 (Tue, 04 Feb 2025) EndedAt: 2025-02-04 06:01:31 -0500 (Tue, 04 Feb 2025) EllapsedTime: 192.0 seconds RetCode: 0 Status: OK CheckDir: MEIGOR.Rcheck Warnings: 0