Package: MEIGOR Version: 1.40.0 Command: /Library/Frameworks/R.framework/Resources/bin/R CMD INSTALL MEIGOR StartedAt: 2025-02-03 16:01:27 -0500 (Mon, 03 Feb 2025) EndedAt: 2025-02-03 16:01:51 -0500 (Mon, 03 Feb 2025) EllapsedTime: 24.4 seconds RetCode: 0 Status: OK