Package: MEIGOR Version: 1.40.0 Command: /home/biocbuild/bbs-3.20-bioc/R/bin/R CMD INSTALL MEIGOR StartedAt: 2025-02-10 15:38:20 -0500 (Mon, 10 Feb 2025) EndedAt: 2025-02-10 15:38:29 -0500 (Mon, 10 Feb 2025) EllapsedTime: 8.4 seconds RetCode: 0 Status: OK