Package: MEIGOR Version: 1.40.0 Command: rm -rf MEIGOR.buildbin-libdir && mkdir MEIGOR.buildbin-libdir && F:\biocbuild\bbs-3.20-bioc\R\bin\R.exe CMD INSTALL --build --library=MEIGOR.buildbin-libdir MEIGOR_1.40.0.tar.gz StartedAt: 2025-02-04 08:52:15 -0500 (Tue, 04 Feb 2025) EndedAt: 2025-02-04 08:52:43 -0500 (Tue, 04 Feb 2025) EllapsedTime: 28.9 seconds RetCode: 0 Status: OK PackageFile: MEIGOR_1.40.0.zip PackageFileSize: 714.1 KiB