Package: MEIGOR Version: 1.40.0 Command: F:\biocbuild\bbs-3.20-bioc\R\bin\R.exe CMD check --no-multiarch --install=check:MEIGOR.install-out.txt --library=F:\biocbuild\bbs-3.20-bioc\R\library --no-vignettes --timings MEIGOR_1.40.0.tar.gz StartedAt: 2025-02-11 03:22:04 -0500 (Tue, 11 Feb 2025) EndedAt: 2025-02-11 03:23:59 -0500 (Tue, 11 Feb 2025) EllapsedTime: 115.3 seconds RetCode: 0 Status: OK CheckDir: MEIGOR.Rcheck Warnings: 0