Package: MGFM Version: 1.40.0 Command: /Library/Frameworks/R.framework/Resources/bin/R CMD build --keep-empty-dirs --no-resave-data MGFM StartedAt: 2025-02-04 03:19:23 -0500 (Tue, 04 Feb 2025) EndedAt: 2025-02-04 03:19:57 -0500 (Tue, 04 Feb 2025) EllapsedTime: 34.8 seconds RetCode: 0 Status: OK PackageFile: MGFM_1.40.0.tar.gz PackageFileSize: 3.491 MiB