Package: MGFM Version: 1.40.0 Command: /Library/Frameworks/R.framework/Resources/bin/R CMD check --install=check:MGFM.install-out.txt --library=/Library/Frameworks/R.framework/Resources/library --no-vignettes --timings MGFM_1.40.0.tar.gz StartedAt: 2025-02-05 01:39:22 -0500 (Wed, 05 Feb 2025) EndedAt: 2025-02-05 01:41:14 -0500 (Wed, 05 Feb 2025) EllapsedTime: 112.4 seconds RetCode: 0 Status: OK CheckDir: MGFM.Rcheck Warnings: 0