Package: MGFM Version: 1.40.0 Command: rm -rf MGFM.buildbin-libdir && mkdir MGFM.buildbin-libdir && /Users/biocbuild/BBS/utils/build-universal.sh MGFM_1.40.0.tar.gz /Library/Frameworks/R.framework/Resources/bin/R MGFM.buildbin-libdir StartedAt: 2025-02-11 13:46:07 -0500 (Tue, 11 Feb 2025) EndedAt: 2025-02-11 13:46:59 -0500 (Tue, 11 Feb 2025) EllapsedTime: 51.8 seconds RetCode: 0 Status: OK PackageFile: MGFM_1.40.0.tgz PackageFileSize: 3.146 MiB