Package: MGFM Version: 1.40.0 Command: /home/biocbuild/bbs-3.20-bioc/R/bin/R CMD build --keep-empty-dirs --no-resave-data --md5 MGFM StartedAt: 2025-02-03 18:11:56 -0500 (Mon, 03 Feb 2025) EndedAt: 2025-02-03 18:12:22 -0500 (Mon, 03 Feb 2025) EllapsedTime: 26.0 seconds RetCode: 0 Status: OK PackageFile: MGFM_1.40.0.tar.gz PackageFileSize: 3.492 MiB