Package: MGFM Version: 1.40.0 Command: /home/biocbuild/bbs-3.20-bioc/R/bin/R CMD check --install=check:MGFM.install-out.txt --library=/home/biocbuild/bbs-3.20-bioc/R/site-library --timings MGFM_1.40.0.tar.gz StartedAt: 2025-02-04 00:03:43 -0500 (Tue, 04 Feb 2025) EndedAt: 2025-02-04 00:05:30 -0500 (Tue, 04 Feb 2025) EllapsedTime: 107.1 seconds RetCode: 0 Status: OK CheckDir: MGFM.Rcheck Warnings: 0