Package: MGFM Version: 1.40.0 Command: /home/biocbuild/bbs-3.20-bioc/R/bin/R CMD INSTALL MGFM StartedAt: 2025-02-03 15:26:12 -0500 (Mon, 03 Feb 2025) EndedAt: 2025-02-03 15:26:33 -0500 (Mon, 03 Feb 2025) EllapsedTime: 21.0 seconds RetCode: 0 Status: OK