Package: MGFM Version: 1.40.0 Command: F:\biocbuild\bbs-3.20-bioc\R\bin\R.exe CMD INSTALL MGFM StartedAt: 2025-02-03 16:00:15 -0500 (Mon, 03 Feb 2025) EndedAt: 2025-02-03 16:00:36 -0500 (Mon, 03 Feb 2025) EllapsedTime: 21.0 seconds RetCode: 0 Status: OK