Package: MGFR Version: 1.32.0 Command: /Library/Frameworks/R.framework/Resources/bin/R CMD build --keep-empty-dirs --no-resave-data MGFR StartedAt: 2025-02-04 03:19:34 -0500 (Tue, 04 Feb 2025) EndedAt: 2025-02-04 03:20:15 -0500 (Tue, 04 Feb 2025) EllapsedTime: 41.7 seconds RetCode: 0 Status: OK PackageFile: MGFR_1.32.0.tar.gz PackageFileSize: 1.824 MiB