Package: MGFR Version: 1.32.0 Command: /Library/Frameworks/R.framework/Resources/bin/R CMD INSTALL MGFR StartedAt: 2025-02-03 16:18:39 -0500 (Mon, 03 Feb 2025) EndedAt: 2025-02-03 16:18:57 -0500 (Mon, 03 Feb 2025) EllapsedTime: 18.7 seconds RetCode: 0 Status: OK