Package: MGFR Version: 1.32.0 Command: /home/biocbuild/bbs-3.20-bioc/R/bin/R CMD INSTALL MGFR StartedAt: 2025-02-10 15:34:42 -0500 (Mon, 10 Feb 2025) EndedAt: 2025-02-10 15:34:57 -0500 (Mon, 10 Feb 2025) EllapsedTime: 14.7 seconds RetCode: 0 Status: OK