Package: MGFR Version: 1.31.0 Command: chmod a+r MGFR -R && F:\biocbuild\bbs-3.20-bioc\R\bin\R.exe CMD build --keep-empty-dirs --no-resave-data MGFR StartedAt: 2024-06-09 20:14:00 -0400 (Sun, 09 Jun 2024) EndedAt: 2024-06-09 20:15:07 -0400 (Sun, 09 Jun 2024) EllapsedTime: 67.6 seconds RetCode: 0 Status: OK PackageFile: MGFR_1.31.0.tar.gz PackageFileSize: 1.635 MiB